BEGIN:VCALENDAR
VERSION:2.0
PRODID:-//Sabre//Sabre VObject 3.5.3//EN
CALSCALE:GREGORIAN
BEGIN:VTIMEZONE
TZID:Europe/London
BEGIN:STANDARD
TZNAME:GMT
DTSTART:19701025T020000
RRULE:FREQ=YEARLY;BYMONTH=10;BYDAY=-1SU
TZOFFSETFROM:+0100
TZOFFSETTO:+0000
END:STANDARD
BEGIN:DAYLIGHT
TZNAME:BST
DTSTART:19700329T010000
RRULE:FREQ=YEARLY;BYMONTH=3;BYDAY=-1SU
TZOFFSETFROM:+0000
TZOFFSETTO:+0100
END:DAYLIGHT
END:VTIMEZONE
BEGIN:VEVENT
UID:event_201874@knightsofharmony.org.uk
DTSTART;TZID=Europe/London:20260621T150000
DTEND;TZID=Europe/London:20260621T153000
SUMMARY:MARSWORTH STEAM AND CLASSIC VEHICLE RALLY SING OUT 2026
DESCRIPTION:\n	\n		\n			&nbsp\;\n		\n		\n			\n			Historic Steam Engines\, A
 gricultural\, Classic Cars\, Bikes&nbsp\;&amp\;&nbsp\;Trucks\n\n			\n			Ov
 er&nbsp\;18 full sized steam engines! Steam fans will be thrilled with the
  authentic results and attention to detail our full-size and miniature eng
 ine owners uphold.\n\n			Hundreds of vintage and classic vehicles&nbsp\;wi
 ll be gleaming at Marsworth too\, including some very impressive cars\, tr
 actors\, commercials and military vehicles. Stunning exhibits aside\, ther
 e will also be an&nbsp\;abundance&nbsp\;of activities to keep all entertai
 ned and we&rsquo\;ve got more than enough to keep the young and not-so-you
 ng happy! &ndash\; For the little ones and the young at heart the&nbsp\;ch
 ildren&rsquo\;s vintage fairground&nbsp\;is always a success\, steam engin
 e rides will be running throughout the day too and as well as the side sho
 ws there will be various events in the arena throughout the day\, some ena
 bling audience participation Our live band\, Pickled Tink\,&nbsp\;are back
  by popular request.\n\n			No belly should go unfed with a range of&nbsp\;
 gourmet treats to suit snackers and larger&nbsp\;appetites alike. The&nbsp
 \;Beer and Tea tents&nbsp\;will be on hand with a selection of&nbsp\;Local
  Real Ales and hefty slabs of cake\,&nbsp\;all&nbsp\;accompanied by live m
 usic.&nbsp\;Stalls&nbsp\;will be here\, there and everywhere too!\n\n			Wh
 ile we know you&rsquo\;ll be having a blast\, proceeds from the day help v
 ery worthy causes and go towards supporting local charities and community 
 projects&nbsp\;in need of a helping hand. In the eighteen years our Steam 
 and Classic Vehicle Rally has been running an impressive amount of money h
 as been raised and it would make our day if this year the total&nbsp\;exce
 eded last year&rsquo\;s charity bounty of &pound\;????? Can we beat it?&nb
 sp\;With your help we can!\n\n			This years Rally promises to be the bigge
 st to date\, along with our regulars we have many&nbsp\;new trade stalls\,
  new rides\, attractions\, as well as additional arena and sideshow entert
 ainment.&nbsp\;Don&rsquo\;t miss this&nbsp\;great family day out\, put the
  date in your diary\, tell all your friends and&nbsp\;treat Dad to a fun d
 ay out this Fathers Day!\n			&nbsp\;\n\n			FAMILY ENTERTAINMENT\n\n			\n		
 	Stalls Galore!\n			Charity Fundraising\n			Arena Entertainment\n			Live M
 usic\n			Crafts\n			Working Models\n			\n\n			BEER TENT &ndash\; WITH LOCA
 L REAL ALES\n\n			\n			Ice Creams\n			Popcorn\n			Candy Floss\n			Fish &am
 p\; Chips\n			Tea\, Snacks &amp\; Homemade Treats\n			\n\n			AND FOR THE K
 IDS\n\n			\n			Face Painting\n			Tring Fire Engine*\n			Steam Engine Rides
 \n			Bouncy Castle &amp\; Slide\n			Kiddies Fairground Fun\n			and MUCH Mo
 re\n\n			*Subject to duty commitments\n			\n			\n			\n		\n	\n\n\n\nExterna
 l website related to this event: http://www.marsworthsteamrally.co.uk\n\nF
 or full event details\, visit: https://www.online.knightsofharmony.org.uk/
 dbpage.php?pg=view&dbase=events&id=201874
LOCATION: Startop Farm\, Marsworth\, Hertfordshire HP23 4LL
URL:https://www.online.knightsofharmony.org.uk/dbpage.php?pg=view&dbase=eve
 nts&id=201874
END:VEVENT
END:VCALENDAR
